BEGIN:VCALENDAR
VERSION:2.0
PRODID:-//Stone the Crows Festival - ECPv5.0.0.2//NONSGML v1.0//EN
CALSCALE:GREGORIAN
METHOD:PUBLISH
X-WR-CALNAME:Stone the Crows Festival
X-ORIGINAL-URL:http://www.stonethecrows.com.au
X-WR-CALDESC:Events for Stone the Crows Festival
BEGIN:VTIMEZONE
TZID:Europe/Paris
BEGIN:DAYLIGHT
TZOFFSETFROM:+0100
TZOFFSETTO:+0200
TZNAME:CEST
DTSTART:20200329T010000
END:DAYLIGHT
BEGIN:STANDARD
TZOFFSETFROM:+0200
TZOFFSETTO:+0100
TZNAME:CET
DTSTART:20201025T010000
END:STANDARD
END:VTIMEZONE
BEGIN:VEVENT
DTSTART;TZID=Europe/Paris:20200413T200000
DTEND;TZID=Europe/Paris:20200413T213000
DTSTAMP:20200228T155118
CREATED:20180717T035937Z
LAST-MODIFIED:20190820T094909Z
UID:2481-1586808000-1586813400@www.stonethecrows.com.au
SUMMARY:Darren Carr
DESCRIPTION:Darren is recognised in the entertainment industry as Australia’s best ventriloquist and a brilliant comic entertainer – and he has numerous trophies\, including ‘Australian Performer of the Year’ and a swag of ‘Mo’ awards\, cluttering his mantelpiece to prove it! \nHe has twice appeared as a headliner at the International Ventriloquist Convention in the USA and has appeared on many TV shows\, like Channel 9’s ‘Footy Show’\, the Comedy Channel’s ‘Stand Up Australia’\, CBS ‘60 Minutes’ and made a huge impact as a special guest on ‘Australia’s Got Talent’. \nDarren\, who has been a great friend of Stone The Crows\, is also a brilliant guitarist\, an accomplished pianist and an excellent drummer. He wrote and recorded the very funny song Exercise Blues especially for our As The Crows Fly CD last year – and played all the instruments himself. \nWith all that talent it may not surprise you to learn that Darren is the son of show biz legend and piano wizard Warren Carr\, who was Musical Director for the ABC\, the St George Leagues Club band leader and had a number of instrumental hits of the 1960s. \nJim Haynes has always said\, ‘Darren’s the funniest performer I know – bar none!’ And\, after past concerts\, 1000 Grey Nomads agree with him – even the ex-mayor of Wagga Wagga\, who became part of the act! \nNot only will Darren (and his friends) entertain you on Easter Monday night but he will be with us for the Morning Shows on Tuesday – Wednesday and Thursday!  You will end up in Darren overload but laughing all the way.  He is a fantastic all round entertainer\, whether ventroliquist\, musician\, singer or comedian – come and listen to this multi-talented genuine nice guy! \n \n
URL:http://www.stonethecrows.com.au/program/daren-carr/
LOCATION:Crow Central
ATTACH;FMTTYPE=image/png:http://www.stonethecrows.com.au/wp-content/uploads/2018/07/Untitled-5-e1566294530540.png
END:VEVENT
END:VCALENDAR