BEGIN:VCALENDAR
VERSION:2.0
PRODID:-//Stone the Crows Festival - ECPv5.0.0.2//NONSGML v1.0//EN
CALSCALE:GREGORIAN
METHOD:PUBLISH
X-WR-CALNAME:Stone the Crows Festival
X-ORIGINAL-URL:http://www.stonethecrows.com.au
X-WR-CALDESC:Events for Stone the Crows Festival
BEGIN:VTIMEZONE
TZID:UTC
BEGIN:STANDARD
TZOFFSETFROM:+0000
TZOFFSETTO:+0000
TZNAME:UTC
DTSTART:20200101T000000
END:STANDARD
END:VTIMEZONE
BEGIN:VEVENT
DTSTART;TZID=UTC:20200415T200000
DTEND;TZID=UTC:20200415T213000
DTSTAMP:20200228T155124
CREATED:20190818T102422Z
LAST-MODIFIED:20190820T095612Z
UID:4024-1586980800-1586986200@www.stonethecrows.com.au
SUMMARY:Ross Maio
DESCRIPTION:Ross Maio is an acclaimed accordion player whose musical capabilities and joyous performances have taken him all over the world. \n \nBorn on the beautiful island of Sicily\, he immigrated to Australia with his mother in 1954\, to reunite with his father who had moved here two years earlier. They were in search of a new life after the war. \nHe wanted an accordion but was forced to wait until he was 10 years old\, when his relative brought a brand new (and small) accordion over from Italy. A Greek cafe-owner overheard the sounds of Maio’s magical playing and convinced his father to let him start gigging at 11 years old in the cafe. \nFor Ross\, life has been rich in performance and travel opportunities including the Variety Club’s Royal Command Performance at the Sydney Opera House\, in the presence of royal guests\, Prince and Princess Michael of Kent. \nHis career has kept him constantly on the move\, captivating audiences not only in the Australian club circuit\, but also in leading hotels in Hong Kong\, Singapore\, The United Arab Emirates\, New Caledonia\, and Mauritius\, as well as on cruise ships worldwide. \nWhen asked on his favourite setting to perform in\, Maio emphasised that it is the variety which keeps him inspired. Whether performing in an orchestra at the Sydney Opera House or playing in an intimate setting – diversity and sharing are for Maio\, the spice of life. When not performing\, he is an inspiring music teacher of both adults and children. \nMaio’s accordion is capable of playing a huge variety of songs\, from traditional\, folk\, tarantella\, to tango\, and contemporary music such as Elvis Presley\, The Beatles and David Bowie. “I want people to hear a contemporary tune on an accordion\,” he said.ross-maoi \n
URL:http://www.stonethecrows.com.au/program/ross-maio/
ATTACH;FMTTYPE=image/jpeg:http://www.stonethecrows.com.au/wp-content/uploads/2019/08/ross-maio-2-e1566294959365.jpg
END:VEVENT
END:VCALENDAR